BEGIN:VCALENDAR
CALSCALE:GREGORIAN
VERSION:2.0
METHOD:PUBLISH 
X-WR-CALNAME:
BEGIN:VEVENT
DTSTART;TZID=Europe/Paris:20260326T203000
DTEND;TZID=Europe/Paris:20260326T213000
SUMMARY:La Bataille du J - Cie Tu Tiens ça de Moi
CATEGORIE:Spectacles et théâtre
GEO:46.03007811706000;0.19974906419800
LOCATION:La Canopée\, Place du Jumelage\, 16700 Ruffec\, France
URL:https://www.fest.fr/e/2246594
UID:2246594-1@fest.fr
END:VEVENT
END:VCALENDAR
