BEGIN:VCALENDAR
CALSCALE:GREGORIAN
VERSION:2.0
METHOD:PUBLISH 
X-WR-CALNAME:
BEGIN:VEVENT
DTSTART;TZID=Europe/Paris:20260425T123456
DTEND;TZID=Europe/Paris:20260425T133456
SUMMARY:MATINÉE PHILO
CATEGORIE:Jeux et Concours
GEO:43.52380060000000;2.83020544000000
LOCATION:Place Maurice Amans\, 34390 Prémian\, France
URL:https://www.fest.fr/e/2243993
UID:2243993-1@fest.fr
END:VEVENT
END:VCALENDAR
