BEGIN:VCALENDAR
CALSCALE:GREGORIAN
VERSION:2.0
METHOD:PUBLISH 
X-WR-CALNAME:
BEGIN:VEVENT
DTSTART;TZID=Europe/Paris:20260530T123456
DTEND;TZID=Europe/Paris:20260530T133456
SUMMARY:Veici Ven ! à Saint-Cyprien
CATEGORIE:Spectacles et Théâtre
GEO:44.56781917000000;2.42426285000000
LOCATION:28 avenue Gustave Bessière\, 12330 Marcillac-Vallon\, France
URL:https://www.fest.fr/e/2243955
UID:2243955-1@fest.fr
END:VEVENT
END:VCALENDAR
