BEGIN:VCALENDAR
CALSCALE:GREGORIAN
VERSION:2.0
METHOD:PUBLISH 
X-WR-CALNAME:
BEGIN:VEVENT
DTSTART;TZID=Europe/Paris:20260413T090000
DTEND;TZID=Europe/Paris:20260413T100000
SUMMARY:Stage : fabrication et animation de marionnettes à fils
CATEGORIE:Stages, Ateliers et Initiations
LOCATION:Théâtre la grange aux loups\, 13 plan saint-Pierre\, 86300 Chauvigny\, France
URL:https://www.fest.fr/e/2243291
UID:2243291-1@fest.fr
END:VEVENT
END:VCALENDAR
