BEGIN:VCALENDAR
CALSCALE:GREGORIAN
VERSION:2.0
METHOD:PUBLISH 
X-WR-CALNAME:
BEGIN:VEVENT
DTSTART;TZID=Europe/Paris:20260619T200000
DTEND;TZID=Europe/Paris:20260619T210000
SUMMARY:OPPB : Carmina Burana
CATEGORIE:Concerts et Musique
GEO:43.33544000000000;-0.36491000000000
LOCATION:Rue Suzanne Bacarisse\, 64000 Pau\, France
URL:https://www.fest.fr/e/2241151
UID:2241151-1@fest.fr
END:VEVENT
END:VCALENDAR
