BEGIN:VCALENDAR
CALSCALE:GREGORIAN
VERSION:2.0
METHOD:PUBLISH 
X-WR-CALNAME:
BEGIN:VEVENT
DTSTART;TZID=Europe/Paris:20251119T143000
DTEND;TZID=Europe/Paris:20251119T153000
SUMMARY:Atelier aquarelle - Curieuse Cabane - Aux couleurs de l'eau
CATEGORIE:Stages, Ateliers et Initiations
GEO:45.04402300000000;5.05003900000000
LOCATION:15 cote Jacquemart
Curieuse Cabane\, 26100 Romans-sur-Isère\, France
URL:https://www.fest.fr/e/2240908
UID:2240908-1@fest.fr
END:VEVENT
END:VCALENDAR
