BEGIN:VCALENDAR
CALSCALE:GREGORIAN
VERSION:2.0
METHOD:PUBLISH 
X-WR-CALNAME:
BEGIN:VEVENT
DTSTART;TZID=Europe/Paris:20260502T184500
DTEND;TZID=Europe/Paris:20260502T194500
SUMMARY:Les Clotildes - La Bonne Surprise - Café-Théâtre Les 3T d'A Côté, Toulouse
CATEGORIE:Spectacles et théâtre
GEO:43.60624192358300;1.45586535787800
LOCATION:Café-Théâtre Les 3T d'A Côté\, 40 Rue Gabriel Péri\, 31000 Toulouse\, France
URL:https://www.fest.fr/e/2221504
UID:2221504-1@fest.fr
END:VEVENT
BEGIN:VEVENT
DTSTART;TZID=Europe/Paris:20260606T184500
DTEND;TZID=Europe/Paris:20260606T194500
SUMMARY:Les Clotildes - La Bonne Surprise - Café-Théâtre Les 3T d'A Côté, Toulouse
CATEGORIE:Spectacles et théâtre
GEO:43.60624192358300;1.45586535787800
LOCATION:Café-Théâtre Les 3T d'A Côté\, 40 Rue Gabriel Péri\, 31000 Toulouse\, France
URL:https://www.fest.fr/e/2221504
UID:2221504-2@fest.fr
END:VEVENT
BEGIN:VEVENT
DTSTART;TZID=Europe/Paris:20260704T184500
DTEND;TZID=Europe/Paris:20260704T194500
SUMMARY:Les Clotildes - La Bonne Surprise - Café-Théâtre Les 3T d'A Côté, Toulouse
CATEGORIE:Spectacles et théâtre
GEO:43.60624192358300;1.45586535787800
LOCATION:Café-Théâtre Les 3T d'A Côté\, 40 Rue Gabriel Péri\, 31000 Toulouse\, France
URL:https://www.fest.fr/e/2221504
UID:2221504-3@fest.fr
END:VEVENT
BEGIN:VEVENT
DTSTART;TZID=Europe/Paris:20260718T184500
DTEND;TZID=Europe/Paris:20260718T194500
SUMMARY:Les Clotildes - La Bonne Surprise - Café-Théâtre Les 3T d'A Côté, Toulouse
CATEGORIE:Spectacles et théâtre
GEO:43.60624192358300;1.45586535787800
LOCATION:Café-Théâtre Les 3T d'A Côté\, 40 Rue Gabriel Péri\, 31000 Toulouse\, France
URL:https://www.fest.fr/e/2221504
UID:2221504-4@fest.fr
END:VEVENT
END:VCALENDAR
