BEGIN:VCALENDAR
CALSCALE:GREGORIAN
VERSION:2.0
METHOD:PUBLISH 
X-WR-CALNAME:
BEGIN:VEVENT
DTSTART;TZID=Europe/Paris:20260414T123456
DTEND;TZID=Europe/Paris:20260414T133456
SUMMARY:Spectacle "Le poids des fourmis"
CATEGORIE:Spectacles et Théâtre
GEO:44.35299200000000;2.57799300000000
LOCATION:1 rue Saint-Cyrice\, 12000 Rodez\, France
URL:https://www.fest.fr/e/2220732
UID:2220732-1@fest.fr
END:VEVENT
END:VCALENDAR
