BEGIN:VCALENDAR
CALSCALE:GREGORIAN
VERSION:2.0
METHOD:PUBLISH 
X-WR-CALNAME:
BEGIN:VEVENT
DTSTART;TZID=Europe/Paris:20260405T170000
DTEND;TZID=Europe/Paris:20260405T180000
SUMMARY:Celtic Legends - Tournée 2026
CATEGORIE:Spectacles et théâtre
GEO:45.82994845329100;5.39552584714400
LOCATION:Salle des Marinières\, Rue Marinières\, 38390 Porcieu-Amblagnieu\, France
URL:https://www.fest.fr/e/2220289
UID:2220289-1@fest.fr
END:VEVENT
END:VCALENDAR
