BEGIN:VCALENDAR
CALSCALE:GREGORIAN
VERSION:2.0
METHOD:PUBLISH 
X-WR-CALNAME:
BEGIN:VEVENT
DTSTART;TZID=Europe/Paris:20260519T203000
DTEND;TZID=Europe/Paris:20260519T213000
SUMMARY:C'est Si Simple l'Amour
CATEGORIE:Spectacles et théâtre
GEO:48.78223469940500;2.59919871424100
LOCATION:Les Passerelles\, 17, rue Saint-Clair\, 77340 Pontault-Combault\, France
URL:https://www.fest.fr/e/2219329
UID:2219329-1@fest.fr
END:VEVENT
END:VCALENDAR
