BEGIN:VCALENDAR
CALSCALE:GREGORIAN
VERSION:2.0
METHOD:PUBLISH 
X-WR-CALNAME:
BEGIN:VEVENT
DTSTART;TZID=Europe/Paris:20260224T123456
DTEND;TZID=Europe/Paris:20260224T133456
SUMMARY:Saison culturelle - Le repas des gens - Compagnie François Cervantes
CATEGORIE:Spectacles et Théâtre
GEO:43.19113000000000;-0.61062000000000
LOCATION:Espace Jéliote
Rue de la poste\, 64400 Oloron-Sainte-Marie\, France
URL:https://www.fest.fr/e/2217815
UID:2217815-1@fest.fr
END:VEVENT
END:VCALENDAR
