BEGIN:VCALENDAR
CALSCALE:GREGORIAN
VERSION:2.0
METHOD:PUBLISH 
X-WR-CALNAME:
BEGIN:VEVENT
DTSTART;TZID=Europe/Paris:20260502T203000
DTEND;TZID=Europe/Paris:20260502T213000
SUMMARY:La Rhapsodie du Schproum
CATEGORIE:Spectacles et théâtre
GEO:48.29580083620700;4.07539862418000
LOCATION:Le Troyes Fois Plus\, 10 rue Louis Ulbach\, 10000 Troyes\, France
URL:https://www.fest.fr/e/2215677
UID:2215677-1@fest.fr
END:VEVENT
END:VCALENDAR
