BEGIN:VCALENDAR
CALSCALE:GREGORIAN
VERSION:2.0
METHOD:PUBLISH 
X-WR-CALNAME:
BEGIN:VEVENT
DTSTART;TZID=Europe/Paris:20251008T200000
DTEND;TZID=Europe/Paris:20251008T210000
SUMMARY:Concert | Le Peuple De L'Herbe
CATEGORIE:Concerts et Musique
GEO:49.24667170000000;2.47121473000000
LOCATION:16 Boulevard Salvador Allende\, 60100 Creil\, France
URL:https://www.fest.fr/e/2212826
UID:2212826-1@fest.fr
END:VEVENT
END:VCALENDAR
