BEGIN:VCALENDAR
CALSCALE:GREGORIAN
VERSION:2.0
METHOD:PUBLISH 
X-WR-CALNAME:
BEGIN:VEVENT
DTSTART;TZID=Europe/Paris:20261113T200000
DTEND;TZID=Europe/Paris:20261113T210000
SUMMARY:Bernard Mabille se Dévoile !
CATEGORIE:Spectacles et théâtre
GEO:47.41899671810700;0.65453443812500
LOCATION:L'Escale\, Allée René Coulon\, 37540 Saint-Cyr-sur-Loire\, France
URL:https://www.fest.fr/e/2212519
UID:2212519-1@fest.fr
END:VEVENT
END:VCALENDAR
