BEGIN:VCALENDAR
CALSCALE:GREGORIAN
VERSION:2.0
METHOD:PUBLISH 
X-WR-CALNAME:
BEGIN:VEVENT
DTSTART;TZID=Europe/Paris:20260410T203000
DTEND;TZID=Europe/Paris:20260410T213000
SUMMARY:Audrey Vernon - Comment Epouser un Milliardaire 2 - Tournée
CATEGORIE:Spectacles et théâtre
LOCATION:THEATRE A L'OUEST - LYON\, 2 AVENUE SIMONE VEIL\, 69150 Décines-Charpieu\, France
URL:https://www.fest.fr/e/2210740
UID:2210740-1@fest.fr
END:VEVENT
END:VCALENDAR
