BEGIN:VCALENDAR
CALSCALE:GREGORIAN
VERSION:2.0
METHOD:PUBLISH 
X-WR-CALNAME:
BEGIN:VEVENT
DTSTART;TZID=Europe/Paris:20260410T203000
DTEND;TZID=Europe/Paris:20260410T213000
SUMMARY:Beatles vs Jackson - Qui est le roi de la Pop ?
CATEGORIE:Concerts et musique
GEO:43.73187451630200;1.40680096722400
LOCATION:Le Bascala\, 12, rue de la Briqueterie\, 31150 Bruguières\, France
URL:https://www.fest.fr/e/2210739
UID:2210739-1@fest.fr
END:VEVENT
END:VCALENDAR
