BEGIN:VCALENDAR
CALSCALE:GREGORIAN
VERSION:2.0
METHOD:PUBLISH 
X-WR-CALNAME:
BEGIN:VEVENT
DTSTART;TZID=Europe/Paris:20251116T100000
DTEND;TZID=Europe/Paris:20251116T110000
SUMMARY:Puces de la couturière
CATEGORIE:Brocantes, Bourses et Vide-Greniers
GEO:43.65279759549055;3.50426763488771
LOCATION:Salle des fêtes\, Cours de la Liberté\, 34725 Saint-André-de-Sangonis\, France
URL:https://www.fest.fr/e/2210711
UID:2210711-1@fest.fr
END:VEVENT
END:VCALENDAR
