BEGIN:VCALENDAR
CALSCALE:GREGORIAN
VERSION:2.0
METHOD:PUBLISH 
X-WR-CALNAME:
BEGIN:VEVENT
DTSTART;TZID=Europe/Paris:20260426T180000
DTEND;TZID=Europe/Paris:20260426T190000
SUMMARY:Carmen - Ballet Julien Lestel
CATEGORIE:Spectacles et théâtre
GEO:49.09814120078300;1.45032488805400
LOCATION:Centre Culturel Guy Gambu\, 1 rue Jules Ferry\, 27950 Saint-Marcel\, France
URL:https://www.fest.fr/e/2209267
UID:2209267-1@fest.fr
END:VEVENT
END:VCALENDAR
