BEGIN:VCALENDAR
CALSCALE:GREGORIAN
VERSION:2.0
METHOD:PUBLISH 
X-WR-CALNAME:
BEGIN:VEVENT
DTSTART;TZID=Europe/Paris:20260117T203000
DTEND;TZID=Europe/Paris:20260117T213000
SUMMARY:Chat en Poche de Georges Feydeau - Le Théâtre de Jeanne, Nantes
CATEGORIE:Spectacles et théâtre
GEO:47.20456250578900;-1.57552462403500
LOCATION:Le Théâtre de Jeanne\, 5, rue de Salorges\, 44100 NANTES\, France
URL:https://www.fest.fr/e/2209106
UID:2209106-1@fest.fr
END:VEVENT
BEGIN:VEVENT
DTSTART;TZID=Europe/Paris:20260118T170000
DTEND;TZID=Europe/Paris:20260118T180000
SUMMARY:Chat en Poche de Georges Feydeau - Le Théâtre de Jeanne, Nantes
CATEGORIE:Spectacles et théâtre
GEO:47.20456250578900;-1.57552462403500
LOCATION:Le Théâtre de Jeanne\, 5, rue de Salorges\, 44100 NANTES\, France
URL:https://www.fest.fr/e/2209106
UID:2209106-2@fest.fr
END:VEVENT
END:VCALENDAR
