BEGIN:VCALENDAR
CALSCALE:GREGORIAN
VERSION:2.0
METHOD:PUBLISH 
X-WR-CALNAME:
BEGIN:VEVENT
DTSTART;TZID=Europe/Paris:20260512T200000
DTEND;TZID=Europe/Paris:20260512T210000
SUMMARY:Retour à Ithaque
CATEGORIE:Spectacles et Théâtre
GEO:48.70052020000000;2.33722230000000
LOCATION:Espace Pierre Amoyal\, 12 Avenue de la République\, 91420 Morangis\, France
URL:https://www.fest.fr/e/2207479
UID:2207479-1@fest.fr
END:VEVENT
END:VCALENDAR
