BEGIN:VCALENDAR
CALSCALE:GREGORIAN
VERSION:2.0
METHOD:PUBLISH 
X-WR-CALNAME:
BEGIN:VEVENT
DTSTART;TZID=Europe/Paris:20260310T203000
DTEND;TZID=Europe/Paris:20260310T213000
SUMMARY:Armin Hokmi - Shiraz
CATEGORIE:Spectacles et Théâtre
GEO:48.54914800000000;7.75071300000000
LOCATION:POLE-SUD, CDCN Strasbourg\, 1 rue de Bourgogne\, 67100 Strasbourg\, France
URL:https://www.fest.fr/e/2198777
UID:2198777-1@fest.fr
END:VEVENT
BEGIN:VEVENT
DTSTART;TZID=Europe/Paris:20260311T203000
DTEND;TZID=Europe/Paris:20260311T213000
SUMMARY:Armin Hokmi - Shiraz
CATEGORIE:Spectacles et Théâtre
GEO:48.54914800000000;7.75071300000000
LOCATION:POLE-SUD, CDCN Strasbourg\, 1 rue de Bourgogne\, 67100 Strasbourg\, France
URL:https://www.fest.fr/e/2198777
UID:2198777-2@fest.fr
END:VEVENT
END:VCALENDAR
