BEGIN:VCALENDAR
CALSCALE:GREGORIAN
VERSION:2.0
METHOD:PUBLISH 
X-WR-CALNAME:
BEGIN:VEVENT
DTSTART;TZID=Europe/Paris:20260502T200000
DTEND;TZID=Europe/Paris:20260502T210000
SUMMARY:Opéra - Messa da requiem
CATEGORIE:Concerts et Musique
GEO:49.11450580000000;6.17075890000000
LOCATION:3 Avenue Ney
L'Arsenal - Jean-Marie-Rausch\, 57000 Metz\, France
URL:https://www.fest.fr/e/2191500
UID:2191500-1@fest.fr
END:VEVENT
BEGIN:VEVENT
DTSTART;TZID=Europe/Paris:20260503T150000
DTEND;TZID=Europe/Paris:20260503T160000
SUMMARY:Opéra - Messa da requiem
CATEGORIE:Concerts et Musique
GEO:49.11450580000000;6.17075890000000
LOCATION:3 Avenue Ney
L'Arsenal - Jean-Marie-Rausch\, 57000 Metz\, France
URL:https://www.fest.fr/e/2191500
UID:2191500-2@fest.fr
END:VEVENT
END:VCALENDAR
