BEGIN:VCALENDAR
CALSCALE:GREGORIAN
VERSION:2.0
METHOD:PUBLISH 
X-WR-CALNAME:
BEGIN:VEVENT
DTSTART;TZID=Europe/Paris:20260328T203000
DTEND;TZID=Europe/Paris:20260328T213000
SUMMARY:Concert de fin de saison - Vagalam
CATEGORIE:Concerts et Musique
LOCATION:Salle Paul Eiselé\, 18 rue Marcelin Bethelot\, 60290 Rantigny\, France
URL:https://www.fest.fr/e/2189277
UID:2189277-1@fest.fr
END:VEVENT
END:VCALENDAR
