BEGIN:VCALENDAR
CALSCALE:GREGORIAN
VERSION:2.0
METHOD:PUBLISH 
X-WR-CALNAME:
BEGIN:VEVENT
DTSTART;TZID=Europe/Paris:20260331T093000
DTEND;TZID=Europe/Paris:20260331T103000
SUMMARY:LE CONCERT IMPROMPTU - Musiques de papier
CATEGORIE:Concerts et Musique
GEO:48.74817300000000;2.45430700000000
LOCATION:médiathèque René Fallet\, 10 All. Mozart\, 94190 Villeneuve-Saint-Georges\, France
URL:https://www.fest.fr/e/2185425
UID:2185425-1@fest.fr
END:VEVENT
BEGIN:VEVENT
DTSTART;TZID=Europe/Paris:20260331T103000
DTEND;TZID=Europe/Paris:20260331T113000
SUMMARY:LE CONCERT IMPROMPTU - Musiques de papier
CATEGORIE:Concerts et Musique
GEO:48.74817300000000;2.45430700000000
LOCATION:médiathèque René Fallet\, 10 All. Mozart\, 94190 Villeneuve-Saint-Georges\, France
URL:https://www.fest.fr/e/2185425
UID:2185425-2@fest.fr
END:VEVENT
BEGIN:VEVENT
DTSTART;TZID=Europe/Paris:20260401T100000
DTEND;TZID=Europe/Paris:20260401T110000
SUMMARY:LE CONCERT IMPROMPTU - Musiques de papier
CATEGORIE:Concerts et Musique
GEO:48.74817300000000;2.45430700000000
LOCATION:médiathèque René Fallet\, 10 All. Mozart\, 94190 Villeneuve-Saint-Georges\, France
URL:https://www.fest.fr/e/2185425
UID:2185425-3@fest.fr
END:VEVENT
BEGIN:VEVENT
DTSTART;TZID=Europe/Paris:20260401T143000
DTEND;TZID=Europe/Paris:20260401T153000
SUMMARY:LE CONCERT IMPROMPTU - Musiques de papier
CATEGORIE:Concerts et Musique
GEO:48.74817300000000;2.45430700000000
LOCATION:médiathèque René Fallet\, 10 All. Mozart\, 94190 Villeneuve-Saint-Georges\, France
URL:https://www.fest.fr/e/2185425
UID:2185425-4@fest.fr
END:VEVENT
BEGIN:VEVENT
DTSTART;TZID=Europe/Paris:20260402T093000
DTEND;TZID=Europe/Paris:20260402T103000
SUMMARY:LE CONCERT IMPROMPTU - Musiques de papier
CATEGORIE:Concerts et Musique
GEO:48.74817300000000;2.45430700000000
LOCATION:médiathèque René Fallet\, 10 All. Mozart\, 94190 Villeneuve-Saint-Georges\, France
URL:https://www.fest.fr/e/2185425
UID:2185425-5@fest.fr
END:VEVENT
BEGIN:VEVENT
DTSTART;TZID=Europe/Paris:20260402T103000
DTEND;TZID=Europe/Paris:20260402T113000
SUMMARY:LE CONCERT IMPROMPTU - Musiques de papier
CATEGORIE:Concerts et Musique
GEO:48.74817300000000;2.45430700000000
LOCATION:médiathèque René Fallet\, 10 All. Mozart\, 94190 Villeneuve-Saint-Georges\, France
URL:https://www.fest.fr/e/2185425
UID:2185425-6@fest.fr
END:VEVENT
BEGIN:VEVENT
DTSTART;TZID=Europe/Paris:20260403T093000
DTEND;TZID=Europe/Paris:20260403T103000
SUMMARY:LE CONCERT IMPROMPTU - Musiques de papier
CATEGORIE:Concerts et Musique
GEO:48.74817300000000;2.45430700000000
LOCATION:médiathèque René Fallet\, 10 All. Mozart\, 94190 Villeneuve-Saint-Georges\, France
URL:https://www.fest.fr/e/2185425
UID:2185425-7@fest.fr
END:VEVENT
BEGIN:VEVENT
DTSTART;TZID=Europe/Paris:20260403T103000
DTEND;TZID=Europe/Paris:20260403T113000
SUMMARY:LE CONCERT IMPROMPTU - Musiques de papier
CATEGORIE:Concerts et Musique
GEO:48.74817300000000;2.45430700000000
LOCATION:médiathèque René Fallet\, 10 All. Mozart\, 94190 Villeneuve-Saint-Georges\, France
URL:https://www.fest.fr/e/2185425
UID:2185425-8@fest.fr
END:VEVENT
BEGIN:VEVENT
DTSTART;TZID=Europe/Paris:20260403T180000
DTEND;TZID=Europe/Paris:20260403T190000
SUMMARY:LE CONCERT IMPROMPTU - Musiques de papier
CATEGORIE:Concerts et Musique
GEO:48.74817300000000;2.45430700000000
LOCATION:médiathèque René Fallet\, 10 All. Mozart\, 94190 Villeneuve-Saint-Georges\, France
URL:https://www.fest.fr/e/2185425
UID:2185425-9@fest.fr
END:VEVENT
END:VCALENDAR
