BEGIN:VCALENDAR
CALSCALE:GREGORIAN
VERSION:2.0
METHOD:PUBLISH 
X-WR-CALNAME:
BEGIN:VEVENT
DTSTART;TZID=Europe/Paris:20260326T203000
DTEND;TZID=Europe/Paris:20260326T213000
SUMMARY:Debout Sur Le Zinc
CATEGORIE:Concerts et musique
GEO:43.51876798109700;5.42197675948700
LOCATION:6MIC Club\, 160, rue Pascal Duverger\, 13090 Aix-en-Provence\, France
URL:https://www.fest.fr/e/2183023
UID:2183023-1@fest.fr
END:VEVENT
END:VCALENDAR
