BEGIN:VCALENDAR
CALSCALE:GREGORIAN
VERSION:2.0
METHOD:PUBLISH 
X-WR-CALNAME:
BEGIN:VEVENT
DTSTART;TZID=Europe/Paris:20260505T123456
DTEND;TZID=Europe/Paris:20260505T133456
SUMMARY:Théâtre : Le chat
CATEGORIE:Spectacles et Théâtre
GEO:49.77332000000000;4.71891900000000
LOCATION:Théâtre de Charleville-Mézières - Place du théâtre\, 08000 Charleville-Mézières\, France
URL:https://www.fest.fr/e/2181115
UID:2181115-1@fest.fr
END:VEVENT
END:VCALENDAR
