BEGIN:VCALENDAR
CALSCALE:GREGORIAN
VERSION:2.0
METHOD:PUBLISH 
X-WR-CALNAME:
BEGIN:VEVENT
DTSTART;TZID=Europe/Paris:20260312T203000
DTEND;TZID=Europe/Paris:20260312T213000
SUMMARY:Quinteto Astor Piazzolla  
CATEGORIE:Concerts et musique
GEO:48.82613357763300;2.23281795616000
LOCATION:Auditorium de La Seine Musicale\, Ile Seguin\, 92100 Boulogne-Billancourt\, France
URL:https://www.fest.fr/e/2179364
UID:2179364-1@fest.fr
END:VEVENT
END:VCALENDAR
