BEGIN:VCALENDAR
CALSCALE:GREGORIAN
VERSION:2.0
METHOD:PUBLISH 
X-WR-CALNAME:
BEGIN:VEVENT
DTSTART;TZID=Europe/Paris:20260408T200000
DTEND;TZID=Europe/Paris:20260408T210000
SUMMARY:Elies Zoghlami - Altremie (Tournée)
CATEGORIE:Spectacles et théâtre
GEO:48.14248687110500;-1.76982658316100
LOCATION:Le Ponant\, 2, boulevard Dumaine de la Josserie\, 35740 Pacé\, France
URL:https://www.fest.fr/e/2162195
UID:2162195-1@fest.fr
END:VEVENT
END:VCALENDAR
