BEGIN:VCALENDAR
CALSCALE:GREGORIAN
VERSION:2.0
METHOD:PUBLISH 
X-WR-CALNAME:
BEGIN:VEVENT
DTSTART;TZID=Europe/Paris:20260410T203000
DTEND;TZID=Europe/Paris:20260410T213000
SUMMARY:Viktor Vincent - Fantastik - Tournée
CATEGORIE:Spectacles et théâtre
GEO:43.21123700311100;2.35258314723000
LOCATION:THEATRE JEAN ALARY\, 6 rue Courtejaire\, 11000 Carcassonne\, France
URL:https://www.fest.fr/e/2159374
UID:2159374-1@fest.fr
END:VEVENT
END:VCALENDAR
