BEGIN:VCALENDAR
CALSCALE:GREGORIAN
VERSION:2.0
METHOD:PUBLISH 
X-WR-CALNAME:
BEGIN:VEVENT
DTSTART;TZID=Europe/Paris:20260314T200000
DTEND;TZID=Europe/Paris:20260314T210000
SUMMARY:Cécile Marx - Iconique (Tournée)
CATEGORIE:Spectacles et théâtre
GEO:47.23307672338200;6.02730096650000
LOCATION:Le Scènacle\, 6, rue de la Vieille Monnaie\, 25000 Besançon\, France
URL:https://www.fest.fr/e/2159234
UID:2159234-1@fest.fr
END:VEVENT
END:VCALENDAR
