BEGIN:VCALENDAR
CALSCALE:GREGORIAN
VERSION:2.0
METHOD:PUBLISH 
X-WR-CALNAME:
BEGIN:VEVENT
DTSTART;TZID=Europe/Paris:20261022T203000
DTEND;TZID=Europe/Paris:20261022T213000
SUMMARY:Elies Zoghlami - Altremie (Tournée)
CATEGORIE:Spectacles et théâtre
GEO:43.57155947485600;1.43340877172800
LOCATION:Casino Barrière Toulouse\, 18, chemin de la Loge\, 31400 TOULOUSE\, France
URL:https://www.fest.fr/e/2156874
UID:2156874-1@fest.fr
END:VEVENT
END:VCALENDAR
