BEGIN:VCALENDAR
CALSCALE:GREGORIAN
VERSION:2.0
METHOD:PUBLISH 
X-WR-CALNAME:
BEGIN:VEVENT
DTSTART;TZID=Europe/Paris:20260522T200000
DTEND;TZID=Europe/Paris:20260522T210000
SUMMARY:Fight Impro - Salle Jean Renoir, Chambéry
CATEGORIE:Spectacles et théâtre
LOCATION:Salle Jean Renoir\, 30 rue Nicolas Parent\, 73000 Chambéry\, France
URL:https://www.fest.fr/e/2150865
UID:2150865-1@fest.fr
END:VEVENT
END:VCALENDAR
