BEGIN:VCALENDAR
CALSCALE:GREGORIAN
VERSION:2.0
METHOD:PUBLISH 
X-WR-CALNAME:
BEGIN:VEVENT
DTSTART;TZID=Europe/Paris:20260327T203000
DTEND;TZID=Europe/Paris:20260327T213000
SUMMARY:Mathieu Stepson - Tournée
CATEGORIE:Spectacles et théâtre
LOCATION:Salle Désiré Valette\, Rue Désiré Valette\, 26240 Saint-Vallier\, France
URL:https://www.fest.fr/e/2147899
UID:2147899-1@fest.fr
END:VEVENT
END:VCALENDAR
