BEGIN:VCALENDAR
CALSCALE:GREGORIAN
VERSION:2.0
METHOD:PUBLISH 
X-WR-CALNAME:
BEGIN:VEVENT
DTSTART;TZID=Europe/Paris:20260324T123456
DTEND;TZID=Europe/Paris:20260324T133456
SUMMARY:LEGENDE BALAVOINE
CATEGORIE:Concerts et Musique
GEO:43.33426000000000;-0.36409000000000
LOCATION:Rue Suzanne Bacarisse
ZENITH DE PAU\, 64000 Pau\, France
URL:https://www.fest.fr/e/2123538
UID:2123538-1@fest.fr
END:VEVENT
END:VCALENDAR
