BEGIN:VCALENDAR
CALSCALE:GREGORIAN
VERSION:2.0
METHOD:PUBLISH 
X-WR-CALNAME:
BEGIN:VEVENT
DTSTART;TZID=Europe/Paris:20260122T203000
DTEND;TZID=Europe/Paris:20260122T213000
SUMMARY:Sofia Belabbes - Ketchup Mayo Nouvelle Version - Tournée
CATEGORIE:Spectacles et théâtre
LOCATION:STOCKFISH\, 5 AV. FRANÇOIS MITTERAND\, 06300 NICE\, France
URL:https://www.fest.fr/e/2110339
UID:2110339-1@fest.fr
END:VEVENT
END:VCALENDAR
