BEGIN:VCALENDAR
CALSCALE:GREGORIAN
VERSION:2.0
METHOD:PUBLISH 
X-WR-CALNAME:
BEGIN:VEVENT
DTSTART;TZID=Europe/Paris:20260428T200000
DTEND;TZID=Europe/Paris:20260428T210000
SUMMARY:Pierre Thevenoux - Life Coach
CATEGORIE:Spectacles et théâtre
GEO:45.75941674562900;4.84814768461900
LOCATION:Bourse du Travail Lyon\, 205, place Guichard\, 69003 Lyon 3e\, France
URL:https://www.fest.fr/e/2101127
UID:2101127-1@fest.fr
END:VEVENT
END:VCALENDAR
