BEGIN:VCALENDAR
CALSCALE:GREGORIAN
VERSION:2.0
METHOD:PUBLISH 
X-WR-CALNAME:
BEGIN:VEVENT
DTSTART;TZID=Europe/Paris:20260410T200000
DTEND;TZID=Europe/Paris:20260410T210000
SUMMARY:Yann Guillarme - Libre ! Tournée
CATEGORIE:Spectacles et théâtre
LOCATION:Salle Frédéric Mistral\, Avenue Lucien Sumian\, 13790 Châteauneuf-le-Rouge\, France
URL:https://www.fest.fr/e/2101122
UID:2101122-1@fest.fr
END:VEVENT
END:VCALENDAR
