BEGIN:VCALENDAR
CALSCALE:GREGORIAN
VERSION:2.0
METHOD:PUBLISH 
X-WR-CALNAME:
BEGIN:VEVENT
DTSTART;TZID=Europe/Paris:20250621T153000
DTEND;TZID=Europe/Paris:20250621T163000
SUMMARY:Conférence : L’importance de la Nature dans les traditions autochtones d’Amériqu
CATEGORIE:Conférences, Forums et Débats
GEO:48.73328000000000;-3.15108000000000
LOCATION:Domaine départemental de la Roche-Jagu
Lieu-dit La Roche Jagu\, 22260 Ploëzal\, France
URL:https://www.fest.fr/e/2100626
UID:2100626-1@fest.fr
END:VEVENT
END:VCALENDAR
