BEGIN:VCALENDAR
CALSCALE:GREGORIAN
VERSION:2.0
METHOD:PUBLISH 
X-WR-CALNAME:
BEGIN:VEVENT
DTSTART;TZID=Europe/Paris:20251122T160000
DTEND;TZID=Europe/Paris:20251122T170000
SUMMARY:1 Heure pour Comprendre son Ado - Tournée
CATEGORIE:Spectacles et théâtre
LOCATION:Salle Tilleul - Le Lerch\, 11 rue du Cercle\, 68200 MULHOUSE\, France
URL:https://www.fest.fr/e/2097377
UID:2097377-1@fest.fr
END:VEVENT
END:VCALENDAR
