BEGIN:VCALENDAR
CALSCALE:GREGORIAN
VERSION:2.0
METHOD:PUBLISH 
X-WR-CALNAME:
BEGIN:VEVENT
DTSTART;TZID=Europe/Paris:20260521T200000
DTEND;TZID=Europe/Paris:20260521T210000
SUMMARY:La Légende de Monte-Cristo, Le Musical - Tournée
CATEGORIE:Spectacles et théâtre
GEO:50.38257221909600;3.09448723116400
LOCATION:Gayant Expo Concerts\, Parc des Expositions de Douai - Route de Tournai\, 59500 Douai\, France
URL:https://www.fest.fr/e/2088596
UID:2088596-1@fest.fr
END:VEVENT
END:VCALENDAR
