BEGIN:VCALENDAR
CALSCALE:GREGORIAN
VERSION:2.0
METHOD:PUBLISH 
X-WR-CALNAME:
BEGIN:VEVENT
DTSTART;TZID=Europe/Paris:20260329T140000
DTEND;TZID=Europe/Paris:20260329T150000
SUMMARY:Irish Celtic - Spirit of Ireland Fête ses 15 ans
CATEGORIE:Spectacles et théâtre
GEO:48.82613357763300;2.23281795616000
LOCATION:La Seine Musicale - La Grande Seine\, Ile Seguin\, 92100 Boulogne-Billancourt\, France
URL:https://www.fest.fr/e/2073466
UID:2073466-1@fest.fr
END:VEVENT
BEGIN:VEVENT
DTSTART;TZID=Europe/Paris:20260329T173000
DTEND;TZID=Europe/Paris:20260329T183000
SUMMARY:Irish Celtic - Spirit of Ireland Fête ses 15 ans
CATEGORIE:Spectacles et théâtre
GEO:48.82613357763300;2.23281795616000
LOCATION:La Seine Musicale - La Grande Seine\, Ile Seguin\, 92100 Boulogne-Billancourt\, France
URL:https://www.fest.fr/e/2073466
UID:2073466-2@fest.fr
END:VEVENT
END:VCALENDAR
