BEGIN:VCALENDAR
CALSCALE:GREGORIAN
VERSION:2.0
METHOD:PUBLISH 
X-WR-CALNAME:
BEGIN:VEVENT
DTSTART;TZID=Europe/Paris:20260317T200000
DTEND;TZID=Europe/Paris:20260317T210000
SUMMARY:Irish Celtic - Spirit of Ireland Fête ses 15 ans
CATEGORIE:Spectacles et théâtre
GEO:45.78505879234500;4.85799430837400
LOCATION:L'Amphithéâtre 3000\, 10, Quai Charles De Gaulle\, 69006 Lyon 6e\, France
URL:https://www.fest.fr/e/2064291
UID:2064291-1@fest.fr
END:VEVENT
END:VCALENDAR
