BEGIN:VCALENDAR
CALSCALE:GREGORIAN
VERSION:2.0
METHOD:PUBLISH 
X-WR-CALNAME:
BEGIN:VEVENT
DTSTART;TZID=Europe/Paris:20260606T200000
DTEND;TZID=Europe/Paris:20260606T210000
SUMMARY:Calogero - Un Soir Dans Les Théâtres
CATEGORIE:Concerts et musique
GEO:47.22233552943400;5.98015271123300
LOCATION:Micropolis\, 3 Boulevard Ouest\, 25000 Besançon\, France
URL:https://www.fest.fr/e/2048880
UID:2048880-1@fest.fr
END:VEVENT
END:VCALENDAR
