BEGIN:VCALENDAR
CALSCALE:GREGORIAN
VERSION:2.0
METHOD:PUBLISH 
X-WR-CALNAME:
BEGIN:VEVENT
DTSTART;TZID=Europe/Paris:20250305T140000
DTEND;TZID=Europe/Paris:20250305T150000
SUMMARY:Atelier pour enfant : Jeux de société
CATEGORIE:Stages, Ateliers et Initiations
GEO:49.06264660000000;1.42863870000000
LOCATION:1 Avenue du 13ème Dragon
Maison des Métiers d'Art
McArthurGlen Paris-Giverny\, 27120 Douains\, France
URL:https://www.fest.fr/e/2037325
UID:2037325-1@fest.fr
END:VEVENT
BEGIN:VEVENT
DTSTART;TZID=Europe/Paris:20250305T160000
DTEND;TZID=Europe/Paris:20250305T170000
SUMMARY:Atelier pour enfant : Jeux de société
CATEGORIE:Stages, Ateliers et Initiations
GEO:49.06264660000000;1.42863870000000
LOCATION:1 Avenue du 13ème Dragon
Maison des Métiers d'Art
McArthurGlen Paris-Giverny\, 27120 Douains\, France
URL:https://www.fest.fr/e/2037325
UID:2037325-2@fest.fr
END:VEVENT
END:VCALENDAR
