BEGIN:VCALENDAR
CALSCALE:GREGORIAN
VERSION:2.0
METHOD:PUBLISH 
X-WR-CALNAME:
BEGIN:VEVENT
DTSTART;TZID=Europe/Paris:20260604T203000
DTEND;TZID=Europe/Paris:20260604T213000
SUMMARY:Tom Baldetti - Tome 1 - Tournée
CATEGORIE:Spectacles et théâtre
GEO:48.97012148573100;2.30340199968400
LOCATION:Casino Barrière Enghien\, 3 avenue de Ceinture\, 95880 Enghien-les-Bains\, France
URL:https://www.fest.fr/e/2015042
UID:2015042-1@fest.fr
END:VEVENT
END:VCALENDAR
