BEGIN:VCALENDAR
CALSCALE:GREGORIAN
VERSION:2.0
METHOD:PUBLISH 
X-WR-CALNAME:
BEGIN:VEVENT
DTSTART;TZID=Europe/Paris:20260418T203000
DTEND;TZID=Europe/Paris:20260418T213000
SUMMARY:En Passant - Le Concert "Chansons" 100% Goldman
CATEGORIE:Concerts et musique
LOCATION:L'ESPACE DELTA\, RUE RANSBACH-BAUMBACH\, 35730 Pleurtuit\, France
URL:https://www.fest.fr/e/2009990
UID:2009990-1@fest.fr
END:VEVENT
END:VCALENDAR
