BEGIN:VCALENDAR
CALSCALE:GREGORIAN
VERSION:2.0
METHOD:PUBLISH 
X-WR-CALNAME:
BEGIN:VEVENT
DTSTART;TZID=Europe/Paris:20260305T200000
DTEND;TZID=Europe/Paris:20260305T210000
SUMMARY:SANTA - Tournée
CATEGORIE:Concerts et musique
LOCATION:LDLC Arena\, 5 avenue Simone Veil\, 69150 Décines-Charpieu\, France
URL:https://www.fest.fr/e/2007470
UID:2007470-1@fest.fr
END:VEVENT
END:VCALENDAR
