BEGIN:VCALENDAR
CALSCALE:GREGORIAN
VERSION:2.0
METHOD:PUBLISH 
X-WR-CALNAME:
BEGIN:VEVENT
DTSTART;TZID=Europe/Paris:20260320T123456
DTEND;TZID=Europe/Paris:20260320T133456
SUMMARY:Spectacle : Diane Segard
CATEGORIE:Spectacles et Théâtre
GEO:47.49786600000000;-0.49583600000000
LOCATION:Route de Paris\, 49000 Angers\, France
URL:https://www.fest.fr/e/2006405
UID:2006405-1@fest.fr
END:VEVENT
END:VCALENDAR
