BEGIN:VCALENDAR
CALSCALE:GREGORIAN
VERSION:2.0
METHOD:PUBLISH 
X-WR-CALNAME:
BEGIN:VEVENT
DTSTART;TZID=Europe/Paris:20260421T200000
DTEND;TZID=Europe/Paris:20260421T210000
SUMMARY:Le Lac des Cygnes - Ballet & Orchestre - Paris & Tournée 2026
CATEGORIE:Spectacles et théâtre
GEO:47.39093082087300;0.69275008021200
LOCATION:Palais des Congrès de Tours\, antique\, 37000 Tours\, France
URL:https://www.fest.fr/e/2005179
UID:2005179-1@fest.fr
END:VEVENT
BEGIN:VEVENT
DTSTART;TZID=Europe/Paris:20260607T160000
DTEND;TZID=Europe/Paris:20260607T170000
SUMMARY:Le Lac des Cygnes - Ballet & Orchestre - Paris & Tournée 2026
CATEGORIE:Spectacles et théâtre
GEO:47.39093082087300;0.69275008021200
LOCATION:Palais des Congrès de Tours\, antique\, 37000 Tours\, France
URL:https://www.fest.fr/e/2005179
UID:2005179-2@fest.fr
END:VEVENT
BEGIN:VEVENT
DTSTART;TZID=Europe/Paris:20261010T200000
DTEND;TZID=Europe/Paris:20261010T210000
SUMMARY:Le Lac des Cygnes - Ballet & Orchestre - Paris & Tournée 2026
CATEGORIE:Spectacles et théâtre
GEO:47.39093082087300;0.69275008021200
LOCATION:Palais des Congrès de Tours\, antique\, 37000 Tours\, France
URL:https://www.fest.fr/e/2005179
UID:2005179-3@fest.fr
END:VEVENT
END:VCALENDAR
