BEGIN:VCALENDAR
CALSCALE:GREGORIAN
VERSION:2.0
METHOD:PUBLISH 
X-WR-CALNAME:
BEGIN:VEVENT
DTSTART;TZID=Europe/Paris:20260410T190000
DTEND;TZID=Europe/Paris:20260410T200000
SUMMARY:Les Femmes ont Toujours Raison, Les Hommes N'ont Jamais Tort !, Tournée
CATEGORIE:Spectacles et théâtre
LOCATION:VOX\, 11, rue Paul Pioda\, 01000 Bourg-en-Bresse\, France
URL:https://www.fest.fr/e/2001871
UID:2001871-1@fest.fr
END:VEVENT
BEGIN:VEVENT
DTSTART;TZID=Europe/Paris:20260410T210000
DTEND;TZID=Europe/Paris:20260410T220000
SUMMARY:Les Femmes ont Toujours Raison, Les Hommes N'ont Jamais Tort !, Tournée
CATEGORIE:Spectacles et théâtre
LOCATION:VOX\, 11, rue Paul Pioda\, 01000 Bourg-en-Bresse\, France
URL:https://www.fest.fr/e/2001871
UID:2001871-2@fest.fr
END:VEVENT
END:VCALENDAR
